BEGIN:VCALENDAR
VERSION:2.0
PRODID:-//Fédération de Sports de Combat &amp; Arts Martiaux - France - ECPv6.10.2//NONSGML v1.0//EN
CALSCALE:GREGORIAN
METHOD:PUBLISH
X-WR-CALNAME:Fédération de Sports de Combat &amp; Arts Martiaux - France
X-ORIGINAL-URL:https://www.fscfrance.fr
X-WR-CALDESC:Évènements pour Fédération de Sports de Combat &amp; Arts Martiaux - France
REFRESH-INTERVAL;VALUE=DURATION:PT1H
X-Robots-Tag:noindex
X-PUBLISHED-TTL:PT1H
BEGIN:VTIMEZONE
TZID:Europe/Paris
BEGIN:DAYLIGHT
TZOFFSETFROM:+0100
TZOFFSETTO:+0200
TZNAME:CEST
DTSTART:20260329T010000
END:DAYLIGHT
BEGIN:STANDARD
TZOFFSETFROM:+0200
TZOFFSETTO:+0100
TZNAME:CET
DTSTART:20261025T010000
END:STANDARD
END:VTIMEZONE
BEGIN:VEVENT
DTSTART;VALUE=DATE:20260110
DTEND;VALUE=DATE:20260111
DTSTAMP:20260420T102901
CREATED:20251120T095329Z
LAST-MODIFIED:20260213T100408Z
UID:11660-1768003200-1768089599@www.fscfrance.fr
SUMMARY:STAGE N°1 - ARBITRAGE EN VUE DU MONDIAL 2026 - BOXES SPORTIVES (MARTIAL-BOXING & BOXES PIEDS-POINGS) - ZONE OUEST-FRANCE - SAM. 10 JANV. 2026 - LAVILLEDIEU (82)
DESCRIPTION:[vc_row][vc_column][vc_column_text]\nSTAGE D'ARBITRAGE RÉGIONAL couplé sur le même lieu avec le STAGE DE PRÉPARATION DES ATHLÈTES RÉGIONAUX EN VUE DU MONDIAL 2026\n\nSTAGE ORGANISÉ PAR LA LIGUE RÉGIONALE DU GRAND SUD-OUEST - SESSION OUVERTE À TOUTES LES RÉGIONS\nDe la part de : \n\n\n - M. EL HADDAOUI Mohamed\, directeur technique régional (DTR) « Occitanie » – 07 81 21 67 98 – jarodelhaddaoui@gmail.com\n - M. RENAUD Ruddy\, directeur technique régional adjoint (DTR.adj.) « Occitanie » – 06 72 88 18 29 – ruddx@hotmail.com\n et  de M. DAUT Djillali\, directeur technique régional (DTR) « Nouvelle-Aquitaine » – 06 31 02 23 78 – dautdjillali@gmail.com\n\nS/C  de M. IMBERNON Éric\, président de la Ligue régionale du Grand Sud-Ouest - 06 13 03 76 80 – ericimbernon33@gmail.com\n\n \n. Renseignements :\n\n M. EL HADDAOUI Mohamed – 07 81 21 67 98 – jarodelhaddaoui@gmail.com\n\n \n\n► Adresse du stage \n\n\n\n Salle multisports\n \n182 Rue Croix de Rouby\n82290 La Ville-Dieu-du-Temple\n\n \n\nAccueil des cadres à 08h30\n\nAccueil des stagiaires à 08h45\n\nFormation théorique : 09h à 12h\n\nFormation pratique : 14h à 17h\n\n \n. Indication d'hôtels à proximité : \n\n à venir\n\n\n\n\n\n \n\n. Contact sur place :\n\n Mme MAIROT Lucie   Tél. 06.65.04.24.28    Email :  lucy231007@gmail.com\n\n\n\n \n\nResponsable du stage : M. MUCCINI Thierry - 06.50.64.35.49 – muccini.kick@hotmail.fr\n\n \n\n\n\nPRÉINSCRIPTION AU STAGE D'ARBITRAGE EN VUE DU MONDIAL 2026 - SAM. 10 JANV. 2026 - LA VILLE-DIEU-DU-TEMPLE (82)\nFORMULAIRE DE PRÉINSCRIPTION EN LIGNE ! À effectuer sur le site fédéral en page d’accueil au BOUTON « INSCRIPTION : COMPÉTITION & STAGE » :  puis à la colonne « STAGES TECHNIQUES NATIONAUX & PRÉPARATION DU GROUPE-FRANCE » :\nwww.fscfrance.fr/boutons/bouton-n2-inscription-competition-stage/calendrier-stages-techniques-je-mincris-en-ligne/2-4-2-inscription-stage-national-de-formation-a-larbitrage-en-vue-du-mondial-2026-boxes-sportives-m-b-b-p-p-zone-ouest-france-sam-10-janv-2026-lavilledieu-82/\n\n \n► PAR DÉFAUT\, UTIILISER LE FORMULAIRE ÉLECTRONIQUE DE PRÉINSCRITION :\nFSC Inscription Stage arbitrage10janv26lavilledieu\nFSC Inscription Stage arbitrage10janv26lavilledieu\n \n► AUTORISATION PARENTALE POUR UN MINEUR\nFSC MODELE AUTO PARENTALE SAISONNIERE\nFSC MODELE AUTO PARENTALE SAISONNIERE\n \n\n► Renseignements auprès de M. EL HADDAOUI Mohamed\, directeur technique régional (DTR) « Occitanie » – 07 81 21 67 98 – jarodelhaddaoui@gmail.com\n\n[/vc_column_text][/vc_column][/vc_row]
URL:https://www.fscfrance.fr/evenement/formation-n1-arbitrage-en-vue-du-mondial-2026-boxes-sportives-martial-boxing-boxes-pieds-poings-zone-ouest-france-sam-10-janv-2026-lavilledieu-82/
END:VEVENT
BEGIN:VEVENT
DTSTART;VALUE=DATE:20260110
DTEND;VALUE=DATE:20260111
DTSTAMP:20260420T102901
CREATED:20251215T171732Z
LAST-MODIFIED:20260213T100054Z
UID:11782-1768003200-1768089599@www.fscfrance.fr
SUMMARY:REGROUPEMENT N°1 - ÉQUIPE NATIONALE DE LA ZONE OUEST-FRANCE EN VUE DU MONDIAL 2026 - BOXES SPORTIVES (MARTIAL-BOXING & BOXES PIEDS-POINGS) - SAM. 10 JANV. - LAVILLEDIEU (82)
DESCRIPTION:STAGE DE PRÉPARATION DES ATHLÈTES RÉGIONAUX couplé sur le même lieu avec le STAGE D'ARBITRAGE RÉGIONAL\n \nSTAGE ORGANISÉ PAR LA LIGUE RÉGIONALE DU GRAND SUD-OUEST - SESSION OUVERTE À TOUTES LES RÉGIONS\nDe la part de : \n\n\n - M. BENTELDJOUNE Mohamed\,  responsable des  sélectionneurs du Groupe-France pour les boxes pieds-poings & Martial-boxing - 06.85.94.90.67 - ckb.albertville@hotmail.fr\n - M. EL HADDAOUI Mohamed\, directeur technique régional (DTR) « Occitanie » – 07 81 21 67 98 – jarodelhaddaoui@gmail.com\n - M. RENAUD Ruddy\, directeur technique régional adjoint (DTR.adj.) « Occitanie » – 06 72 88 18 29 – ruddx@hotmail.com\n et  de M. DAUT Djillali\, directeur technique régional (DTR) « Nouvelle-Aquitaine » – 06 31 02 23 78 – dautdjillali@gmail.com\n\nS/C  de M. IMBERNON Éric\, président de la Ligue régionale du Grand Sud-Ouest - 06 13 03 76 80 – ericimbernon33@gmail.com\n\n \n\nParallèlement aux sélectionnés du Groupe-France sont également invités en qualité de sparring-partners les athlètes de la série "élite" des clubs nationaux à partir de 12 ans.\n\n► Adresse du stage : \n\n\n\n Salle multisports\n \n182 Rue Croix de Rouby\n82290 La Ville-Dieu-du-Temple\n\n \n\nAccueil des cadres à 08h30\n\nAccueil des stagiaires à 08h45\n\nStage : 09h à 12h\n\nStage : 14h à 17h\n\n \n. Indication d'hôtels à proximité : \n\n à venir\n\n\n\n\n\n \n\n. Contact sur place :\n\n Mme MAIROT Lucie   Tél. 06.65.04.24.28    Email :  lucy231007@gmail.com\n\n \n\n\n\n \n\nInformations dans l'article de la page d'accueil de ce site internet\n\n \n\n\n\nPRÉINSCRIPTION AU STAGE DE PRÉPARATION DU GROUPE-FRANCE EN VUE DU MONDIAL 2026 - SAM. 14 mars 2026 - LA VILLE-DIEU-DU-TEMPLE (82)\nFORMULAIRE DE PRÉINSCRIPTION EN LIGNE ! À effectuer sur le site fédéral en page d’accueil au BOUTON « INSCRIPTION : COMPÉTITION & STAGE » :  puis à la colonne « STAGES TECHNIQUES NATIONAUX & PRÉPARATION DU GROUPE-FRANCE » :\nSTAGE DE PRÉPARATION ÉQUIPE RÉGIONALE EN VUE DU MONDIAL 2026 – ZONE OUEST FRANCE – BOXES SPORTIVES (MARTIAL-BOXING & BOXES PIEDS-POINGS) – SAM. 10 JANV. – LAVILLEDIEU (82)\n \n► AUTORISATION PARENTALE POUR UN MINEUR\nFSC MODELE AUTO PARENTALE SAISONNIERE\nFSC MODELE AUTO PARENTALE SAISONNIERE\n \n\nRenseignements auprès de M. EL HADDAOUI Mohamed\, directeur technique régional (DTR) « Occitanie » – 07 81 21 67 98 – jarodelhaddaoui@gmail.com\n\n[/vc_column_text][/vc_column][/vc_row]
URL:https://www.fscfrance.fr/evenement/stage-n-1-preparation-equipe-nationale-de-la-zone-ouest-france-en-vue-du-mondial-2026-boxes-sportives-martial-boxing-boxes-pieds-poings-sam-10-janv-lavilledieu-82/
END:VEVENT
BEGIN:VEVENT
DTSTART;VALUE=DATE:20260116
DTEND;VALUE=DATE:20260119
DTSTAMP:20260420T102901
CREATED:20251104T192209Z
LAST-MODIFIED:20251105T194622Z
UID:11500-1768521600-1768780799@www.fscfrance.fr
SUMMARY:STAGE TECHNIQUE NATIONAL [BOXES PIEDS-POINGS] – 16-18 JANV. 2026 – CANNES (06)
DESCRIPTION:[vc_row][vc_column][vc_column_text css=""]\n\n \n\n Contact : M. STURKOP Robert – 06 60 63 67 64 – rob.esfk@gmail.com\n\n[/vc_column_text][/vc_column][/vc_row]
URL:https://www.fscfrance.fr/evenement/stage-technique-national-boxes-pieds-poings-16-18-janv-2026-cannes-06/
END:VEVENT
BEGIN:VEVENT
DTSTART;VALUE=DATE:20260117
DTEND;VALUE=DATE:20260118
DTSTAMP:20260420T102901
CREATED:20251120T195831Z
LAST-MODIFIED:20260121T152054Z
UID:11663-1768608000-1768694399@www.fscfrance.fr
SUMMARY:ROOKIES-BELTS 2026 DE MARTIAL-BOXING [15 ANS À VÉTÉRAN] UNIQUEMENT EN MÉDIUM + LOW-KICK [06 ANS À VÉTÉRAN] LIGHT\, MÉDIUM & PRÉCOMBAT + JAPAN-KICK [15 ANS À VÉTÉRAN] MÉDIUM & PRÉCOMBAT – SAM. 17 JANV. 2026 - NORD-OUEST
DESCRIPTION:[vc_row][vc_column][vc_column_text css=""]\nRookies-belts conjoints : Martial-boxing\, Low-kick & Japan-kick\n \n\nPRÉINSCRIPTION AVEC LE FORMULAIRE CI-DESSOUS :\n\nEngagement sur le site fédéral au plus tôt 15 jours et au plus tard 8 jours avant la manifestation www.fscfrance.fr/boutons/bouton-n2-inscription-competition-stage/ au bouton de la page d'accueil "COMPÉTITION & STAGE"  à la colonne "compétitions nationales et internationales" puis à l'événement ! Contact pour les engagements auprès du responsable des championnats nationaux\, le Directeur sportif fédéral\, M. IMBERNON Éric - 06 13 03 76 80 – ericimbernon33@gmail.com\n\n \n► FORMULAIRE D'INSCRIPTION\nPreinscriptROOKIES MB+LK+K1 17.01.26\nPreinscriptROOKIES MB+LK+K1 17.01.26\n \n► AUTORISATION PARENTALE POUR UN MINEUR\nFSC MODELE AUTO PARENTALE SAISONNIERE\nFSC MODELE AUTO PARENTALE SAISONNIERE\n \n\nContact :  M. SAHLI Anis  -  Tél. 06 32 09 87 23 - Email :  ray.14@hotmail.fr\n\n[/vc_column_text][/vc_column][/vc_row]
URL:https://www.fscfrance.fr/evenement/rookies-belts-2026-de-martial-boxing-15-ans-a-veteran-uniquement-en-medium-low-kick-06-ans-a-veteran-light-medium-precombat-japan-kick-15-ans-a-veteran-medium-precombat-s/
END:VEVENT
BEGIN:VEVENT
DTSTART;VALUE=DATE:20260117
DTEND;VALUE=DATE:20260119
DTSTAMP:20260420T102901
CREATED:20251214T193203Z
LAST-MODIFIED:20260213T095959Z
UID:11774-1768608000-1768780799@www.fscfrance.fr
SUMMARY:FORMATION N° 1 2026 - ENSEIGNANT DE CLUB 2026 - [AAF]\, [DAF]\, [DIF] & [DPF] - MULTIDISCIPLINES - PRÉVUE LES 03-04 JANV. & REPORTÉE LES 17-18 JANV. - GRADIGNAN (33)
DESCRIPTION:[vc_row][vc_column][vc_column_text]\n\n\n\nATTENTION : REPORTÉ LES 17-18 JANV. 2026 À GRADIGNAN (33) !\nStage de formation d'enseignant\nDe la part du PRESIDENT DE LA LIGUE DU GRAND SUD-OUEST\, M. IMBERNON Éric – 06.13.03.76.80 – ericimbernon33@gmail.com\n\n \n\nPRÉINSCRIPTION EN LIGNE :\n\nEngagement au plus tôt 15 jours avant l'événement et au plus tard 8 jours avant l'événement.\n\nÀ saisir sur le site fédéral en page d’accueil du site au BOUTON « DEMANDE DE FORMATION DE COACH » \, puis au BOUTON « INSCRIPTION À UNE SESSION »\n\n6.1 Formulaire inscription FORMATION D’ENSEIGNANT DE CLUB 2026 – [AAF]\, [DAF]\, [DIF] & [DPF] – MULTIDISCIPLINES – 03 & 04 JANV. – GRADIGNAN (33)\n\n \n► AUTORISATION PARENTALE POUR UN MINEUR\nFSC MODELE AUTO PARENTALE SAISONNIERE\nFSC MODELE AUTO PARENTALE SAISONNIERE\n \n\n ► GESTIONNAIRE DE LA FORMATION : M. DAUT Djillali\, responsable national des grades et équivalences\, gestionnaire des sessions de formation et demandes de validation de diplômes d’enseignant – 06 31 02 23 78 – dautdjillali@gmail.com\n\n \n\n► RENSEIGNEMENTS DANS L'ARTICLE DE LA PAGE D'ACCUEIL\n\n \n\nContact : M. MUCCINI Thierry - 06.50.64.35.49 – muccini.kick@hotmail.fr\n\n[/vc_column_text][/vc_column][/vc_row]
URL:https://www.fscfrance.fr/evenement/formation-denseignant-de-club-2026-aaf-daf-dif-dpf-multidisciplines-03-04-janv-gradignan-33/
ATTACH;FMTTYPE=image/png:https://www.fscfrance.fr/wp-content/uploads/2019/12/diplomedif-1.png
END:VEVENT
BEGIN:VEVENT
DTSTART;VALUE=DATE:20260125
DTEND;VALUE=DATE:20260126
DTSTAMP:20260420T102901
CREATED:20200124T221959Z
LAST-MODIFIED:20260118T140749Z
UID:5296-1769299200-1769385599@www.fscfrance.fr
SUMMARY:WARRIORS MARTIAL KIDS CUP - TOURNOI D'ARTS GUERRIERS - DIM. 25 JANVIER 2026 - LA BALME-DE-SILLINGY (74)
DESCRIPTION:[vc_row][vc_column][vc_column_text]\n\n PARCOURS SPORTIF MARTIAL (Tir à l’arc\, combat lance / épée\, sarbacane\, escalade…)\n\net COMBAT TOTAL SOUPLE (pieds-poings-sol - avec protections).\n\n - 04 ans à 15 ans. Déguisement conseillé.\n\n \n\n- DIMANCHE 25 JANVIER  2026 – DOJO DE LA BALME-DE-SILLINGY (Hte Savoie) – salle du Bois Joli. Accueil à 08H\n\n04 à 15 ans\n\nCi-dessous : fiche d’inscription (avec autorisation parentale)\n\nTransmettre avec précision votre préinscription par MAIL avant le 03 février academiepombo@gmail.com 06 83 99 67 87 (Rumilly : 04 50 52 23 36).\n\nFiche d’inscription à expédier par COURRIER POSTAL : C.O. FIAGF 18 avenue des Alpes 74150 RUMILLY\n\nInfo sur la page FACEBBOK : https://www.facebook.com/fiagf/photos/%EF%B8%8Fderniers-jours-pour-vous-inscrire-dimanche-25-janvier-2026-la-warriors-martial-/4333169106930105/\n\n \nAffiche Warriors Martial Kids Cup2-25janv26\n\n \nFiche Inscription Warriors Martial Kids Cup 25janv26\n\n\n[/vc_column_text][/vc_column][/vc_row]
URL:https://www.fscfrance.fr/evenement/warriors-martial-kids-cup-tournoi-darts-guerriers-dim-26-janvier-2025-la-balme-de-sillingy-74/
END:VEVENT
BEGIN:VEVENT
DTSTART;VALUE=DATE:20260131
DTEND;VALUE=DATE:20260201
DTSTAMP:20260420T102901
CREATED:20210807T122215Z
LAST-MODIFIED:20260226T092929Z
UID:7008-1769817600-1769903999@www.fscfrance.fr
SUMMARY:CHAMPIONNAT NATIONAL 2026 DE MARTIAL-BOXING [15 ANS À VÉTÉRAN] UNIQUEMENT EN MÉDIUM + LOW-KICK [15 ANS À VÉTÉRAN] MÉDIUM & PRÉCOMBAT – SAM. 31 JANVIER - SUD-OUEST
DESCRIPTION:[vc_row][vc_column][vc_column_text]\nChampionnats nationaux conjoints\nPRÉINSCRIPTION EN LIGNE :\n\nEngagement sur le site fédéral au plus tôt 15 jours et au plus tard 8 jours avant la manifestation www.fscfrance.fr/boutons/bouton-n2-inscription-competition-stage/ au bouton de la page d'accueil "COMPÉTITION & STAGE"  à la colonne "compétitions nationales et internationales" puis à l'événement ! Contact pour les engagements auprès du responsable des championnats nationaux\, le Directeur sportif fédéral\, M. IMBERNON Éric - 06 13 03 76 80 – ericimbernon33@gmail.com\n\nwww.fscfrance.fr/boutons/bouton-n2-inscription-competition-stage/calendrier-championnats-nationaux-je-mincris-en-ligne/de-martial-boxing-15-ans-plus-uniquement-medium-championnat-national-2026-de-low-kick-15-ans-plus-medium-precombat-sam-31-janvier-sud-ouest/\n\n \nÀ défaut\, utiliser le formulaire de préinscription électronique ci-dessous à expédier à M. IMBERNON Éric – ericimbernon33@gmail.com\nPreinscriptCHPT MB+LK 31.01.26\nPreinscriptCHPT MB+LK 31.01.26\n \n► AUTORISATION PARENTALE POUR UN MINEUR\nFSC MODELE AUTO PARENTALE SAISONNIERE\nFSC MODELE AUTO PARENTALE SAISONNIERE\n \n\n► RENSEIGNEMENTS DANS L'ARTICLE DE LA PAGE D'ACCUEIL - à venir\n\n \n\nContact : M. MUCCINI Thierry - 06.50.64.35.49 – muccini.kick@hotmail.fr\n\n[/vc_column_text][/vc_column][/vc_row]
URL:https://www.fscfrance.fr/evenement/championnat-national-2026-de-martial-boxing-a-partir-de-12-ans-medium-low-kick-medium-a-partir-de-12-ans-precombat-a-partir-de-15-ans-sam-31-janv-sud-ouest-a-confirmer/
ATTACH;FMTTYPE=image/jpeg:https://www.fscfrance.fr/wp-content/uploads/2019/12/ba78187f4ebd5b186faada634270095b20181027120333.jpg
END:VEVENT
END:VCALENDAR