BEGIN:VCALENDAR
VERSION:2.0
PRODID:-//Fédération de Sports de Combat &amp; Arts Martiaux - France - ECPv6.10.2//NONSGML v1.0//EN
CALSCALE:GREGORIAN
METHOD:PUBLISH
X-WR-CALNAME:Fédération de Sports de Combat &amp; Arts Martiaux - France
X-ORIGINAL-URL:https://www.fscfrance.fr
X-WR-CALDESC:Évènements pour Fédération de Sports de Combat &amp; Arts Martiaux - France
REFRESH-INTERVAL;VALUE=DURATION:PT1H
X-Robots-Tag:noindex
X-PUBLISHED-TTL:PT1H
BEGIN:VTIMEZONE
TZID:Europe/Paris
BEGIN:DAYLIGHT
TZOFFSETFROM:+0100
TZOFFSETTO:+0200
TZNAME:CEST
DTSTART:20260329T010000
END:DAYLIGHT
BEGIN:STANDARD
TZOFFSETFROM:+0200
TZOFFSETTO:+0100
TZNAME:CET
DTSTART:20261025T010000
END:STANDARD
END:VTIMEZONE
BEGIN:VEVENT
DTSTART;VALUE=DATE:20260613
DTEND;VALUE=DATE:20260614
DTSTAMP:20260422T105415
CREATED:20251228T095140Z
LAST-MODIFIED:20260422T075346Z
UID:11806-1781308800-1781395199@www.fscfrance.fr
SUMMARY:FRENCH INTERNATIONAL TOURNAMENT JEUNES 2026 [12 À 17 ANS] - JAPAN-KICK/K1 - SAM. 13 JUIN - SAVIGNY-LE-TEMPLE (77)
DESCRIPTION:[vc_row][vc_column][vc_column_text css=""]\nFrench International Tournament Kids K-1 2026\n(Open international des jeunes [12-17 ans] de K-1 2026)\n- Minime (12-13 ans) : Light-contact\n- Cadet (14-15 ans) : Médium-contact\n- Junior-1 (16-17 ans) : Précombat\n\n \n\n ► CONSULTER L'ARTICLE DE LA PAGE D'ACCUEIL DE CE SITE\n\n \n\nLieu : Gymnase Jean Bouin - Place Nathalie Lemel - 77176 SAVIGNY-LE-TEMPLE (France)\n\n \n\n\n\n\nPRÉINSCRIPTION\n\n\nEngagement sur le site fédéral au plus tôt 15 jours et au plus tard 8 jours avant la manifestation www.fscfrance.fr/boutons/bouton-n2-inscription-competition-stage/ au bouton de la page d'accueil "COMPÉTITION & STAGE"  à la colonne "compétitions nationales et internationales" puis à l'événement ! Contact pour les engagements auprès du responsable des championnats nationaux\, le Directeur sportif fédéral\, M. IMBERNON Éric - 06 13 03 76 80 – ericimbernon33@gmail.com\n\n\n\n\nwww.fscfrance.fr/boutons/bouton-n2-inscription-competition-stage/calendrier-championnats-nationaux-je-mincris-en-ligne/2-2-3-inscription-open-international-des-jeunes-12-a-17-ans-kick-boxing-kids-tournament-japan-kick-sam-13-juin-2026-savigny-le-temple-77/\n\n\n\n\n\n\n\nÀ défaut\, utiliser le formulaire de préinscription électronique ci-dessous à expédier à M. IMBERNON Éric – ericimbernon33@gmail.com\n\n\n\n\n\n\n\n\nPreinscriptFRENCH-TOURNAMENT-JEUNES-K1-13juin26savignyV3\nPreinscriptFRENCH-TOURNAMENT-JEUNES-K1-13juin26savignyV3\n\n\n\n\n\n\n\n\n\n\n\n\n\n\n\n\n\n\n\n\n\n\n\n\n\n\n► AUTORISATION PARENTALE POUR UN MINEUR\nFSC MODELE AUTO PARENTALE SAISONNIERE\nFSC MODELE AUTO PARENTALE SAISONNIERE\n \n► Contact sur place :\n\n M. MANDA 0dgé - 06.43.98.38.98 - staffboxe176@gmail.com\n M. ONGUENE Philippe - 06.50.45.12.26 - staffboxe176@gmail.com\n\n[/vc_column_text][/vc_column][/vc_row]
URL:https://www.fscfrance.fr/evenement/open-international-des-jeunes-12-a-17-ans-kick-boxing-kids-tournament-japan-kick-13-14-juin-2026-savigny-le-temple-77/
ATTACH;FMTTYPE=image/jpeg:https://www.fscfrance.fr/wp-content/uploads/french-tournament-kids-k1-2026-poster.jpg
END:VEVENT
END:VCALENDAR