BEGIN:VCALENDAR
VERSION:2.0
PRODID:-//Fédération de Sports de Combat &amp; Arts Martiaux - France - ECPv6.10.2//NONSGML v1.0//EN
CALSCALE:GREGORIAN
METHOD:PUBLISH
X-ORIGINAL-URL:https://www.fscfrance.fr
X-WR-CALDESC:Évènements pour Fédération de Sports de Combat &amp; Arts Martiaux - France
REFRESH-INTERVAL;VALUE=DURATION:PT1H
X-Robots-Tag:noindex
X-PUBLISHED-TTL:PT1H
BEGIN:VTIMEZONE
TZID:Europe/Paris
BEGIN:DAYLIGHT
TZOFFSETFROM:+0100
TZOFFSETTO:+0200
TZNAME:CEST
DTSTART:20260329T010000
END:DAYLIGHT
BEGIN:STANDARD
TZOFFSETFROM:+0200
TZOFFSETTO:+0100
TZNAME:CET
DTSTART:20261025T010000
END:STANDARD
END:VTIMEZONE
BEGIN:VEVENT
DTSTART;VALUE=DATE:20260606
DTEND;VALUE=DATE:20260607
DTSTAMP:20260420T115335
CREATED:20251216T095253Z
LAST-MODIFIED:20260419T200655Z
UID:11787-1780704000-1780790399@www.fscfrance.fr
SUMMARY:EXAMEN N°3 - 2026 - GRADES - MULTIDISCIPLINES - SAM. 06 JUIN - CAUSSADE (82)
DESCRIPTION:[vc_row][vc_column][vc_column_text css=""]\nExamen de grades techniques\nDe la part du PRESIDENT DE LA LIGUE DU GRAND SUD-OUEST\, M. IMBERNON Éric – 06.13.03.76.80 – ericimbernon33@gmail.com\n\net de M. EL HADDAOUI Mohamed\, directeur technique régional (DTR) « Occitanie » – Ligue régionale du Grand Sud-Ouest – 07 81 21 67 98 – jarodelhaddaoui@gmail.com\n\n \n\n► GESTIONNAIRE DE LA SESSION DE GRADES : M. DAUT Djillali\, responsable national des grades et équivalences\, gestionnaire des sessions de formation et demandes de validation de diplômes d’enseignant – 06 31 02 23 78 – dautdjillali@gmail.com\n\n \n► CONSULTER L'ARTICLE DE LA PAGE D'ACCUEIL DE CE SITE\n\n\n \n\n\n\nADRESSE DU LIEU DE LA SESSION\n► Dojo du gymnase municipal de Caussade\n1 rue Jean moulin 82300 CAUSSADE \n \nINDICATION D'HÔTELS\n► HÔTELS\n\n \nCONTACT SUR PLACE\nGestion de la session d'examen et informations à propos d'adresses d'hôtel et restauration sur place\, consulter : \nM. EL HADDAOUI Mohamed – 07 81 21 67 98 – jarodelhaddaoui@gmail.com \n \n\n\n\nEMPLOI DU TEMPS DE L'EXAMEN DE GRADES\nSAMEDI MATIN \n\n\n . Accueil des candidats : 8h30\n . 09h-14h : Examen de grades supérieurs du 1er au 5ème degré pour les candidats concernés\n\nRepas sur place le samedi à 13h à la charge de tous – possibilité de réserver un plateau repas à commander auprès du DTR. \n \nEMPLOI DU TEMPS DU STAGE \nHORAIRES À TITRE INDICATIF - EMPLOI DU TEMPS À CONFIRMER\nRepas sur place le samedi à 13h à la charge de tous – possibilité de réserver un plateau repas à commander auprès du RDN. \nParallèlement le vendredi\, examen de grades - consulter l'article en page d'accueil. \n \nEMPLOI DU TEMPS DU STAGE DE FORMATION D'ENSEIGNANT : \nSAMEDI MATIN & A.M. \nAAF \n\n\n . Accueil : 08h30\n . 09h-12h : apports théoriques et préparation de la séance pour l'examen\n . 14h-17h : examen\n . Bilan du stage + résultats des examens d'enseignant.\n \n\nDAF\, DIF & DPF \n\n\n . Accueil : 08h30\n . 09h-12h : pratique pédagogique par groupe\n . 14h-17h : apports théoriques et préparation de la séance pour le lendemain et pédagogie\n\nDIMANCHE MATIN \nDAF\, DIF & DPF \n\n\n . Accueil : 8h30\n . 09-12h : examen\n . Bilan du stage + résultats des examens d'enseignant.\n\n \n\n\n\nPRÉINSCRIPTION EN LIGNE :\nÀ saisir sur le site fédéral en page d’accueil du site au BOUTON « DEMANDE DE GRADE » \, puis à la ligne de la session concernée :\n\n8.1.2 Formulaire  inscription EXAMEN DE GRADES 2026 – MULTIDISCIPLINES  - 06 JUIN - CAUSSADE (82)\n\n \n► AUTORISATION PARENTALE POUR UN MINEUR\nFSC MODELE AUTO PARENTALE SAISONNIERE\nFSC MODELE AUTO PARENTALE SAISONNIERE\n \n\n[/vc_column_text][/vc_column][/vc_row]
URL:https://www.fscfrance.fr/evenement/examen-n3-2026-grades-multidisciplines-sam-06-juin-caussade-82/
ATTACH;FMTTYPE=image/png:https://www.fscfrance.fr/wp-content/uploads/carton-diplom-cn1-grand-format.png
END:VEVENT
BEGIN:VEVENT
DTSTART;VALUE=DATE:20260606
DTEND;VALUE=DATE:20260608
DTSTAMP:20260420T115335
CREATED:20251215T192621Z
LAST-MODIFIED:20260419T200126Z
UID:11785-1780704000-1780876799@www.fscfrance.fr
SUMMARY:FORMATION N° 4 - 2026 - ENSEIGNANT DE CLUB - [AAF]\, [DAF]\, [DIF] & [DPF] - MULTIDISCIPLINES - 06 & 07 JUIN - CAUSSADE (82)
DESCRIPTION:[vc_row][vc_column][vc_column_text]\nStage de formation d'enseignant\nDe la part du PRESIDENT DE LA LIGUE DU GRAND SUD-OUEST\, M. IMBERNON Éric – 06.13.03.76.80 – ericimbernon33@gmail.com\n\net de M. EL HADDAOUI Mohamed\, directeur technique régional (DTR) « Occitanie » – Ligue régionale du Grand Sud-Ouest – 07 81 21 67 98 – jarodelhaddaoui@gmail.com\n\n \n\n► GESTIONNAIRE DE LA FORMATION : M. DAUT Djillali\, responsable national des grades et équivalences\, gestionnaire des sessions de formation et demandes de validation de diplômes d’enseignant – 06 31 02 23 78 – dautdjillali@gmail.com\n\n \n\n \n► CONSULTER L'ARTICLE DE LA PAGE D'ACCUEIL DE CE SITE\n\n\n \n\n\n\nADRESSE DU LIEU DU STAGE\n► Dojo du gymnase municipal de Caussade\n1 rue Jean moulin 82300 CAUSSADE \n \nINDICATION D'HÔTELS\n► HÔTELS\n\n \nCONTACT SUR PLACE\nGestion de la session d'examen et informations à propos d'adresses d'hôtel et restauration sur place\, consulter : \nM. EL HADDAOUI Mohamed – 07 81 21 67 98 – jarodelhaddaoui@gmail.com \n \n\n\n\nEMPLOI DU TEMPS DE L'EXAMEN DE GRADES\nSAMEDI MATIN \n\n\n . Accueil des candidats : 8h30\n . 09h-14h : Examen de grades supérieurs du 1er au 5ème degré pour les candidats concernés\n\nRepas sur place le samedi à 13h à la charge de tous – possibilité de réserver un plateau repas à commander auprès du DTR. \n \nEMPLOI DU TEMPS DU STAGE \nHORAIRES À TITRE INDICATIF - EMPLOI DU TEMPS À CONFIRMER\nRepas sur place le samedi à 13h à la charge de tous – possibilité de réserver un plateau repas à commander auprès du RDN. \nParallèlement le vendredi\, examen de grades - consulter l'article en page d'accueil \nEMPLOI DU TEMPS DU STAGE DE FORMATION : \nSAMEDI MATIN & A.M. \nAAF \n\n\n . Accueil : 08h30\n . 09h-12h : apports théoriques et préparation de la séance pour l'examen\n . 14h-17h : examen\n . Bilan du stage + résultats des examens d'enseignant.\n \n\nDAF\, DIF & DPF \n\n\n . Accueil : 08h30\n . 09h-12h : pratique pédagogique par groupe\n . 14h-17h : apports théoriques et préparation de la séance pour le lendemain et pédagogie\n\nDIMANCHE MATIN \nDAF\, DIF & DPF \n\n\n . Accueil : 8h30\n . 09-12h : examen\n . Bilan du stage + résultats des examens d'enseignant.\n\n \n\n\n\nPRÉINSCRIPTION EN LIGNE\nÀ saisir sur le site fédéral en page d’accueil du site au BOUTON « DEMANDE FORMATION COACH » \, puis au BOUTON « INSCRIPTION À UNE SESSION » :\n\n www.fscfrance.fr/boutons/bouton-n6-inscription-formation-coach/bouton-formation-de-coach/lliste-inscription-session-formation-coach/6-2-formulaire-formation-denseignant-de-club-2026-aaf-daf-dif-dpf-multidisciplines-06-07-juin-caussade-82/\n\n \n► AUTORISATION PARENTALE POUR UN MINEUR\nFSC MODELE AUTO PARENTALE SAISONNIERE\nFSC MODELE AUTO PARENTALE SAISONNIERE\n \n\n \n\nContact sur place : M. EL HADDAOUI Mohamed – 07 81 21 67 98 – jarodelhaddaoui@gmail.com\n\n[/vc_column_text][/vc_column][/vc_row]
URL:https://www.fscfrance.fr/evenement/formation-n-4-2026-enseignant-de-club-aaf-daf-dif-dpf-multidisciplines-06-07-juin-caussade-82/
ATTACH;FMTTYPE=image/png:https://www.fscfrance.fr/wp-content/uploads/2019/12/carton-diplomedif-1.png
END:VEVENT
END:VCALENDAR