BEGIN:VCALENDAR
VERSION:2.0
PRODID:-//Fédération de Sports de Combat &amp; Arts Martiaux - France - ECPv6.10.2//NONSGML v1.0//EN
CALSCALE:GREGORIAN
METHOD:PUBLISH
X-ORIGINAL-URL:https://www.fscfrance.fr
X-WR-CALDESC:Évènements pour Fédération de Sports de Combat &amp; Arts Martiaux - France
REFRESH-INTERVAL;VALUE=DURATION:PT1H
X-Robots-Tag:noindex
X-PUBLISHED-TTL:PT1H
BEGIN:VTIMEZONE
TZID:Europe/Paris
BEGIN:DAYLIGHT
TZOFFSETFROM:+0100
TZOFFSETTO:+0200
TZNAME:CEST
DTSTART:20260329T010000
END:DAYLIGHT
BEGIN:STANDARD
TZOFFSETFROM:+0200
TZOFFSETTO:+0100
TZNAME:CET
DTSTART:20261025T010000
END:STANDARD
END:VTIMEZONE
BEGIN:VEVENT
DTSTART;VALUE=DATE:20260509
DTEND;VALUE=DATE:20260510
DTSTAMP:20260420T104625
CREATED:20231220T214142Z
LAST-MODIFIED:20260412T093911Z
UID:9665-1778284800-1778371199@www.fscfrance.fr
SUMMARY:COUPE DE FRANCE 2026 DE FULL-CONTACT & LOW-KICK [06 ANS À VÉTÉRAN : LIGHT\, MÉDIUM\, PRÉCOMBAT] + OPEN DE FRANCE DE MARTIAL-BOXING [15 ANS À VÉTÉRAN : UNIQUEMENT EN MÉDIUM] – SAM. 09 MAI – SUD-OUEST
DESCRIPTION:[vc_row][vc_column][vc_column_text css=""]\nCoupe de France de Full-contact & Low-kick 2026\nOpen de France de Martial-boxing 2026\n \n\n\n\nPRÉINSCRIPTION\nEngagement sur le site fédéral au plus tôt 15 jours et au plus tard 8 jours avant la manifestation www.fscfrance.fr/boutons/bouton-n2-inscription-competition-stage/ au bouton de la page d'accueil "COMPÉTITION & STAGE"  à la colonne "compétitions nationales et internationales" puis à l'événement ! Contact pour les engagements auprès du responsable des championnats nationaux\, le Directeur sportif fédéral\, M. IMBERNON Éric - 06 13 03 76 80 – ericimbernon33@gmail.com\n\nwww.fscfrance.fr/boutons/bouton-n2-calendrier-inscription-stage-examen/calendrier-championnats-nationaux-je-mincris-en-ligne/2-2-2-inscription-coupe-de-france-2026-de-full-contact-low-kick-06-ans-a-veteran-light-medium-precombat-open-de-france-de-martial-boxing-15-ans-a-veteran-uniquement-en-medium-s/\n\n \nÀ défaut\, utiliser le formulaire de préinscription électronique ci-dessous à expédier à M. IMBERNON Éric – ericimbernon33@gmail.com\nPreinscriptCDF FC+LK OPF MB 09.05.26-V2\nPreinscriptCDF FC+LK OPF MB 09.05.26-V2\n \n► AUTORISATION PARENTALE POUR UN MINEUR\nFSC MODELE AUTO PARENTALE SAISONNIERE\nFSC MODELE AUTO PARENTALE SAISONNIERE\n \nAdresse : à venir \n \nPesée samedi - sur place au Gymnase : par le biais du Groupe WhatsApp de la FSC\, l'heure sera communiquée quelques jours avant par le responsable national des compétitions\, M. IMBERNON Éric – 06 13 03 76 80 – ericimbernon33@gmail.com \nPesée avancée pour ceux qui le souhaitent le vendredi - sur place au Gymnase : également\, s'il y a une demande\, l'heure sera communiquée quelques jours avant. \n \nContact sur place : M. ROPIO Mario  - Tél. 06.85.91.34.63 - Email : m.ropio.fcb@wanadoo.fr \n \nHôtellerie : A titre indicatif\, adresses d'hôtels à proximité\, consulter M. ROPIO Mario. \n[/vc_column_text][/vc_column][/vc_row]
URL:https://www.fscfrance.fr/evenement/coupe-de-france-2026-de-full-contact-low-kick-06-ans-a-veteran-light-medium-precombat-open-de-france-de-martial-boxing-15-ans-a-veteran-uniquement-en-medium-sam-09-mai/
ATTACH;FMTTYPE=image/jpeg:https://www.fscfrance.fr/wp-content/uploads/2019/12/ba78187f4ebd5b186faada634270095b20181027120333.jpg
END:VEVENT
END:VCALENDAR