BEGIN:VCALENDAR
VERSION:2.0
PRODID:-//Fédération de Sports de Combat &amp; Arts Martiaux - France - ECPv6.10.2//NONSGML v1.0//EN
CALSCALE:GREGORIAN
METHOD:PUBLISH
X-ORIGINAL-URL:https://www.fscfrance.fr
X-WR-CALDESC:Évènements pour Fédération de Sports de Combat &amp; Arts Martiaux - France
REFRESH-INTERVAL;VALUE=DURATION:PT1H
X-Robots-Tag:noindex
X-PUBLISHED-TTL:PT1H
BEGIN:VTIMEZONE
TZID:Europe/Paris
BEGIN:DAYLIGHT
TZOFFSETFROM:+0100
TZOFFSETTO:+0200
TZNAME:CEST
DTSTART:20260329T010000
END:DAYLIGHT
BEGIN:STANDARD
TZOFFSETFROM:+0200
TZOFFSETTO:+0100
TZNAME:CET
DTSTART:20261025T010000
END:STANDARD
END:VTIMEZONE
BEGIN:VEVENT
DTSTART;VALUE=DATE:20260314
DTEND;VALUE=DATE:20260315
DTSTAMP:20260420T104526
CREATED:20251103T230032Z
LAST-MODIFIED:20260302T112758Z
UID:10480-1773446400-1773532799@www.fscfrance.fr
SUMMARY:REGROUPEMENT N°4 - ÉQUIPE NATIONALE DE LA ZONE OUEST-FRANCE EN VUE DE L'EURO 2026 & DU MONDIAL 2026 - BOXES SPORTIVES (MARTIAL-BOXING & BOXES PIEDS-POINGS) - SAM. 14 MARS - CAUSSADE (82)
DESCRIPTION:[vc_row][vc_column][vc_column_text css=""]\nSTAGE DE PRÉPARATION DES ATHLÈTES NATIONAUX DE LA ZONE OUEST -FRANCE EN VUE DE L'EURO 2026 & MONDIAL 2026\nMARTIAL BOXING & BOXES PIEDS-POINGS - 12 ANS à VÉTÉRAN DE LA SÉRIE "ÉLITE".\n \nORGANISÉ PAR LA LIGUE RÉGIONALE DU GRAND SUD-OUEST - SESSION OUVERTE À TOUTES LES RÉGIONS\nS/C  de M. IMBERNON Éric\, président de la Ligue régionale du Grand Sud-Ouest - 06 13 03 76 80 – ericimbernon33@gmail.com\nDe la part de : \n- M. BENTELDJOUNE Mohamed\,  responsable des  sélectionneurs du Groupe-France pour les boxes pieds-poings & Martial-boxing - 06.85.94.90.67 - ckb.albertville@hotmail.fr\n\net de :\n\n- M. EL HADDAOUI Mohamed\, directeur technique régional (DTR) « Occitanie » – 07 81 21 67 98 – jarodelhaddaoui@gmail.com\n\n- M. RENAUD Ruddy\, directeur technique régional adjoint (DTR.adj.) « Occitanie » – 06 72 88 18 29 – ruddx@hotmail.com\n\net  de M. DAUT Djillali\, directeur technique régional (DTR) « Nouvelle-Aquitaine » – 06 31 02 23 78 – dautdjillali@gmail.com\n\n \n\n\n\nSAMEDI 14 MAI - CAUSSADE [82)\n\n \n► CONSULTER L'ARTICLE DE LA PAGE D'ACCUEIL DE CE SITE\n\n\nParallèlement aux sélectionnés du Groupe-France sont également invités en qualité de sparring-partners les athlètes de la série "élite" des clubs nationaux à partir de 12 ans.\n\n \n. Adresse du stage : \n\n\n\n ► Dojo du gymnase municipal de Caussade\n1 rue Jean moulin 82300 CAUSSADE\n\n\nDÉROULEMENT\n\n - 9h00 : briefing des encadrants\,\n - 9h30 : accueil des athlètes\,\n - 10h-12h30 : entraînement\,\n - 12h30-14h: pause déjeuner\,\n - 14h-17h00 : entraînement\,\n - 17h00 : bilan du stage.\n \n\n17h30 : réunion des encadrants fédéraux.\n\n\n \n. À titre indicatif\, hôtels à proximité : \n\n ► HOTELS\n\n\n\n\n\n \n\n. Contact sur place :\n\n ► M. EL HADDAOUI Mohamed – 07 81 21 67 98 – jarodelhaddaoui@gmail.com\n\n \n\n\n\n\n\n\nINSCRIPTION DES ATHLÈTES DU GROUPE-FRANCE SUR PLACE \n \n► AUTORISATION PARENTALE POUR UN MINEUR\nFSC MODELE AUTO PARENTALE SAISONNIERE\nFSC MODELE AUTO PARENTALE SAISONNIERE\n \n\nRenseignements auprès de M. EL HADDAOUI Mohamed\, directeur technique régional (DTR) « Occitanie » – 07 81 21 67 98 – jarodelhaddaoui@gmail.com\n\n[/vc_column_text][/vc_column][/vc_row]
URL:https://www.fscfrance.fr/evenement/preparation-n3-equipe-nationale-de-la-zone-ouest-france-en-vue-du-mondial-2026-boxes-sportives-martial-boxing-boxes-pieds-poings-sam-14-mars-caussade-82/
END:VEVENT
END:VCALENDAR