BEGIN:VCALENDAR
VERSION:2.0
PRODID:-//Fédération de Sports de Combat &amp; Arts Martiaux - France - ECPv6.10.2//NONSGML v1.0//EN
CALSCALE:GREGORIAN
METHOD:PUBLISH
X-WR-CALNAME:Fédération de Sports de Combat &amp; Arts Martiaux - France
X-ORIGINAL-URL:https://www.fscfrance.fr
X-WR-CALDESC:Évènements pour Fédération de Sports de Combat &amp; Arts Martiaux - France
REFRESH-INTERVAL;VALUE=DURATION:PT1H
X-Robots-Tag:noindex
X-PUBLISHED-TTL:PT1H
BEGIN:VTIMEZONE
TZID:Europe/Paris
BEGIN:DAYLIGHT
TZOFFSETFROM:+0100
TZOFFSETTO:+0200
TZNAME:CEST
DTSTART:20260329T010000
END:DAYLIGHT
BEGIN:STANDARD
TZOFFSETFROM:+0200
TZOFFSETTO:+0100
TZNAME:CET
DTSTART:20261025T010000
END:STANDARD
END:VTIMEZONE
BEGIN:VEVENT
DTSTART;VALUE=DATE:20260116
DTEND;VALUE=DATE:20260119
DTSTAMP:20260421T122617
CREATED:20251104T192209Z
LAST-MODIFIED:20251105T194622Z
UID:11500-1768521600-1768780799@www.fscfrance.fr
SUMMARY:STAGE TECHNIQUE NATIONAL [BOXES PIEDS-POINGS] – 16-18 JANV. 2026 – CANNES (06)
DESCRIPTION:[vc_row][vc_column][vc_column_text css=""]\n\n \n\n Contact : M. STURKOP Robert – 06 60 63 67 64 – rob.esfk@gmail.com\n\n[/vc_column_text][/vc_column][/vc_row]
URL:https://www.fscfrance.fr/evenement/stage-technique-national-boxes-pieds-poings-16-18-janv-2026-cannes-06/
END:VEVENT
END:VCALENDAR